BEGIN:VCALENDAR
VERSION:2.0
PRODID:-//wp-events-plugin.com//6.6.4.4//EN
BEGIN:VEVENT
UID:3-120@eilandvangroningen.nl
DTSTART:20130624T150000Z
DTEND:20130624T160000Z
DTSTAMP:20130518T130744Z
URL:https://eilandvangroningen.nl/KleinEiland/agenda/big-band-2013-06-24/
SUMMARY:Big Band
DESCRIPTION:Wie van muziek houdt is van harte welkom om maandagmiddagen mee
  te spelen in de Eiland Bigband (in opbouw). Al dan niet met je ouders of 
 kind(eren). Kom gerust vrijblijvend kijken.\n€ 5\,- per persoon tot 12 j
 aar.\n12+ gratis.\nMeer info/aanmelden bij erik@eilandvangroningen.nl.
ATTACH;FMTTYPE=image/jpeg:https://eilandvangroningen.nl/wp-content/uploads
 /sites/3/2013/05/bigband.jpg
CATEGORIES:
LOCATION:\, \, 
X-APPLE-STRUCTURED-LOCATION;VALUE=URI;X-ADDRESS=\, ;X-APPLE-RADIUS=100;X-TI
 TLE=:geo:0,0
END:VEVENT
END:VCALENDAR