BEGIN:VCALENDAR
VERSION:2.0
PRODID:-//wp-events-plugin.com//6.6.4.4//EN
BEGIN:VEVENT
UID:5-34@eilandvangroningen.nl
DTSTART:20130521T190000Z
DTEND:20130521T210000Z
DTSTAMP:20130518T112819Z
URL:https://eilandvangroningen.nl/Uni/agenda/opvoedinspiratie-avond/
SUMMARY:Opvoedinspiratie-avond
DESCRIPTION:Deze keer over eten. Wat zijn de eetgewoontes van je kind? Hoe 
 zorgen we ervoor dat ze zo gezond mogelijk opgroeien en leren genieten van
  goed eten?\n\nOpvoedinspiratie-avonden zijn bedoeld om in goed geschelsch
 ap ervaringen uit te wisselen over waar je in de opvoeding (als ouder of i
 n je werk) zoal mee te maken krijgt. Iedereen is welkom\, maar vanwege de 
 maximum groepsgrootte graag even aanmelden alhier of via post@unikinderkun
 de.nl.\n\nWe zien weer uit naar jullie ervaringen en meedenken!\n\nBijdrag
 e achteraf in de koffiepot afhankelijk van tevredenheid en draagkracht.
ATTACH;FMTTYPE=image/jpeg:https://eilandvangroningen.nl/wp-content/uploads
 /sites/5/2013/05/overeten.jpg
CATEGORIES:kinderkunde
LOCATION:\, \, 
X-APPLE-STRUCTURED-LOCATION;VALUE=URI;X-ADDRESS=\, ;X-APPLE-RADIUS=100;X-TI
 TLE=:geo:0,0
END:VEVENT
END:VCALENDAR